BEGIN:VCALENDAR
VERSION:2.0
PRODID:-//Hijyen Ekibi - ECPv6.15.10//NONSGML v1.0//EN
CALSCALE:GREGORIAN
METHOD:PUBLISH
X-ORIGINAL-URL:https://hijyenekibi.com
X-WR-CALDESC:Hijyen Ekibi için etkinlikler
REFRESH-INTERVAL;VALUE=DURATION:PT1H
X-Robots-Tag:noindex
X-PUBLISHED-TTL:PT1H
BEGIN:VTIMEZONE
TZID:UTC
BEGIN:STANDARD
TZOFFSETFROM:+0000
TZOFFSETTO:+0000
TZNAME:UTC
DTSTART:20220101T000000
END:STANDARD
END:VTIMEZONE
BEGIN:VEVENT
DTSTART;VALUE=DATE:20231111
DTEND;VALUE=DATE:20270212
DTSTAMP:20260420T145759
CREATED:20140731T003401Z
LAST-MODIFIED:20140731T003401Z
UID:987667-1699660800-1802390399@hijyenekibi.com
SUMMARY:Top 10 Move in Tips
DESCRIPTION:Event description\n\n	\n	\n	\n\n\n\n	\n\n\n			\n	\n	\n		\n	Tiling can be especially tricky and prone to all sorts of DIY disasters so we invited a group of budding DIYers to our London HQ to learn some pro tricks! \n\n	\n\n\n	\n		\n	◎ When drilling into tiles it’s essential to use a tile drill bit or your tiles will smash\, but if you’re drilling into tiles already on the wall\, you should use a dual tile and masonry bit\, allowing you to easily drill straight through both; \n\n	\n\n\n\n			\n	\n	\n		\n	Guests got involved and had a go at everything\, some of the top tips they learned included: \n◎ To remove old tiles from a wall\, the easiest thing to do is to smash one from the centre and then work out from there\, carefully removing the other tiles in one piece;\n◎  It’s essential to use an adhesive comb when applying adhesive to tiles\, this creates air bubbles and allows them to bond to the wall without sliding off;\n◎ When drilling into tiles it’s essential to use a tile drill bit or your tiles will smash\, but if you’re drilling into tiles already on the wall\, you should use a dual tile and masonry bit\, allowing you to easily drill straight through both;
URL:https://hijyenekibi.com/classes/top-10-move-in-tips-2/
LOCATION:New York Ardesia Bar\, Lexington Avenue\, New York\, NY\, 10022\, United States
CATEGORIES:Commercial,Design,Engineering
ATTACH;FMTTYPE=image/jpeg:https://hijyenekibi.com/wp-content/uploads/2014/03/photo-12.jpg
ORGANIZER;CN="Michael":MAILTO:junk@vamtam.com
END:VEVENT
BEGIN:VEVENT
DTSTART;VALUE=DATE:20231111
DTEND;VALUE=DATE:20270212
DTSTAMP:20260420T145759
CREATED:20140731T003401Z
LAST-MODIFIED:20140731T003401Z
UID:8708-1699660800-1802390399@hijyenekibi.com
SUMMARY:Top 10 Move in Tips
DESCRIPTION:Event description\n\n	\n	\n	\n\n\n\n	\n\n\n			\n	\n	\n		\n	Tiling can be especially tricky and prone to all sorts of DIY disasters so we invited a group of budding DIYers to our London HQ to learn some pro tricks! \n\n	\n\n\n	\n		\n	◎ When drilling into tiles it’s essential to use a tile drill bit or your tiles will smash\, but if you’re drilling into tiles already on the wall\, you should use a dual tile and masonry bit\, allowing you to easily drill straight through both; \n\n	\n\n\n\n			\n	\n	\n		\n	Guests got involved and had a go at everything\, some of the top tips they learned included: \n◎ To remove old tiles from a wall\, the easiest thing to do is to smash one from the centre and then work out from there\, carefully removing the other tiles in one piece;\n◎  It’s essential to use an adhesive comb when applying adhesive to tiles\, this creates air bubbles and allows them to bond to the wall without sliding off;\n◎ When drilling into tiles it’s essential to use a tile drill bit or your tiles will smash\, but if you’re drilling into tiles already on the wall\, you should use a dual tile and masonry bit\, allowing you to easily drill straight through both;
URL:https://hijyenekibi.com/classes/top-10-move-in-tips/
LOCATION:New York Ardesia Bar\, Lexington Avenue\, New York\, NY\, 10022\, United States
CATEGORIES:Commercial,Design,Engineering
ATTACH;FMTTYPE=image/jpeg:https://hijyenekibi.com/wp-content/uploads/2014/03/photo-12.jpg
ORGANIZER;CN="Michael":MAILTO:junk@vamtam.com
END:VEVENT
END:VCALENDAR